BEGIN:VCALENDAR
VERSION:2.0
PRODID:-//peiq//peiq.de//DE
CALSCALE:GREGORIAN
BEGIN:VEVENT
DTSTART:20191208T183000
DTEND:20191208T203000
DTSTAMP:20260423T062356
URL;VALUE=URI:https://www.stadtanzeiger-ortenau.de/event/27186
SUMMARY:Konzert "Worldwide Candle Lighting"
DESCRIPTION:mit dem Sängerduo Ilona Braunstein und Patrick Labiche, dem Pianisten Thomas Strauß und dem Panflötisten Dorian Gheorghilas. Es geht um die alte, weltweite Tradition, eine Kerze ans Fenster zu stellen, um zu sagen: „Ihr Kinder seid nicht vergessen!“ Zu diesem besinnlichen Konzert sind alle herzlich vom Ortenauer Kinder- und Jugendhospizdienst eingeladen. Der Eintritt ist frei. Spenden erbeten.
LOCATION:Heiligkreuz-Kirche\, \nOffenburg
UID:PEIQ-PMK2-EVENT-27186-0-0@www.stadtanzeiger-ortenau.de
END:VEVENT
END:VCALENDAR
