BEGIN:VCALENDAR
VERSION:2.0
PRODID:-//peiq//peiq.de//DE
CALSCALE:GREGORIAN
BEGIN:VEVENT
DTSTART:20191208T110000
DTEND:20191208T130000
DTSTAMP:20260421T084711
URL;VALUE=URI:https://www.stadtanzeiger-ortenau.de/event/27348
SUMMARY:Konzertmatinee mit dem Ensemble "Concert de l´Isle"
DESCRIPTION:Anne L´Espérance, Sopran, Sonja Kanno-Landoll, Renaissance-Blockflöte und Eva Valtova, Orgel bringen in ihrem Konzert adventliche und weihnachtliche Lieder aus der Zeit von der Spätrenaissance bis zum Frühbarock aus verschiedenen eu-ropäischen Regionen zu Gehör. Außerdem werden auch instrumentale Werke von Domenico Scarlatti, Giovanni B. Riccio, Jakob van Eyck und Francesco Cavalli zu hören sein. Dass diese Musik bis heute nichts von ihrer Frische und Lebendigkeit eingebüßt hat, beweisen die Interpreten mit
LOCATION:Paul-Gerhardt-Kirche im Bodelschwingh-Haus\, \nOffenburg
UID:PEIQ-PMK2-EVENT-27348-0-0@www.stadtanzeiger-ortenau.de
END:VEVENT
END:VCALENDAR
