BEGIN:VCALENDAR
VERSION:2.0
PRODID:-//peiq//peiq.de//DE
CALSCALE:GREGORIAN
BEGIN:VEVENT
DTSTART:20260425T203000
DTEND:20260425T223000
DTSTAMP:20260421T103904
URL;VALUE=URI:https://www.stadtanzeiger-ortenau.de/event/596575
SUMMARY:Love Ghost (USA) – Europe-Tour "Anarchy & Ashes" / Support: Von Welt - live im Spitalkeller Offenburg
DESCRIPTION:VVK: 15,00 € zzgl. Geb. / AK: 18,00 € Tickets Bürgerbüro / Reservix Im Anschluss Tanzbar mit den DJs der unglaublich guten 80er-Party (Team Kessel OG) Die Live-Shows von Love Ghost sind eine mitreißende Mischung aus Emo, Grunge, Trap und Alternative Rock und bieten emotional aufgeladene Auftritte, die das Publikum tief berühren. Frontmann Finnegan Bell führt die Band mit purer Intensität und bindet das Publikum zwischen den Songs oft ein, um ein persönliches und intensives Erlebnis zu schaffen. Die Setlists
LOCATION:Spitalkeller\, \nSpitalstraße 1a\, \n77652\, \nOffenburg
UID:PEIQ-PMK2-EVENT-596575-0-0@www.stadtanzeiger-ortenau.de
END:VEVENT
END:VCALENDAR
